BEGIN:VCALENDAR
VERSION:2.0
PRODID:-//Tukios.com/
BEGIN:VEVENT
UID:7b66fca3-d93d-4885-aadd-8ed89426ab64@obits.jhenrystuhr.com
DTSTAMP:20260425T232032Z
DTSTART:20260506T140000Z
DTEND:20260506T150000Z
SUMMARY:Visitation & Funeral Service
DESCRIPTION:
URL:https://obits.jhenrystuhr.com/william-neiderberger
LOCATION: 1494 Mathis Ferry Road  Mt. Pleasant SC 29464
GEO:32.8237364;-79.8512316
END:VEVENT
END:VCALENDAR