BEGIN:VCALENDAR
VERSION:2.0
PRODID:-//Tukios.com/
BEGIN:VEVENT
UID:6261b344-3411-4478-ae80-b156d3e90d60@obits.jhenrystuhr.com
DTSTAMP:20260421T183419Z
DTSTART:20260430T150000Z
DTEND:20260430T160000Z
SUMMARY:Funeral Service
DESCRIPTION:
URL:https://obits.jhenrystuhr.com/william-douan
LOCATION:J. Henry Stuhr Inc., Mount Pleasant Chapel 1494 Mathis Ferry Rd  
	Mount Pleasant SC 29464
GEO:32.8236822;-79.8512941
END:VEVENT
END:VCALENDAR