BEGIN:VCALENDAR
VERSION:2.0
PRODID:-//Tukios.com/
BEGIN:VEVENT
UID:2b1e9213-4291-4876-890c-08c5a2eb0caf@obits.jhenrystuhr.com
DTSTAMP:20260421T183419Z
DTSTART:20260430T140000Z
DTEND:20260430T150000Z
SUMMARY:Visitation
DESCRIPTION:
URL:https://obits.jhenrystuhr.com/william-douan
LOCATION:J. Henry Stuhr Inc., Mount Pleasant Chapel 1494 Mathis Ferry Rd  
	Mount Pleasant SC 29464
GEO:32.8236822;-79.8512941
END:VEVENT
END:VCALENDAR