BEGIN:VCALENDAR
VERSION:2.0
PRODID:-//Tukios.com/
BEGIN:VEVENT
UID:c5902df1-3491-4929-94c9-20623ba1ac08@obits.jhenrystuhr.com
DTSTAMP:20260425T231247Z
DTSTART:20260427T180000Z
DTEND:20260427T190000Z
SUMMARY:Graveside Service
DESCRIPTION:
URL:https://obits.jhenrystuhr.com/susan-allen
LOCATION:Riverview Memorial Park 3715 Azalea Dr  North Charleston SC 
	29405
GEO:32.8468146;-79.9891958
END:VEVENT
END:VCALENDAR