BEGIN:VCALENDAR
VERSION:2.0
PRODID:-//Tukios.com/
BEGIN:VEVENT
UID:726ea181-71f6-40fd-952e-7ffce65c8603@obits.jhenrystuhr.com
DTSTAMP:20260421T220933Z
DTSTART:20260430T190000Z
DTEND:20260430T200000Z
SUMMARY:Memorial Service
DESCRIPTION:
URL:https://obits.jhenrystuhr.com/robert-lebby-jr
LOCATION: 6211 Murray Dr  Hanahan SC 29410
GEO:32.9203822;-80.014584
END:VEVENT
END:VCALENDAR