BEGIN:VCALENDAR
VERSION:2.0
PRODID:-//Tukios.com/
BEGIN:VEVENT
UID:d152c2bc-50fa-4c53-bcbd-7c1616648e0a@obits.jhenrystuhr.com
DTSTAMP:20260421T221029Z
DTSTART:20260430T180000Z
DTEND:20260430T190000Z
SUMMARY:Visitation
DESCRIPTION:
URL:https://obits.jhenrystuhr.com/robert-lebby-jr
LOCATION: 6211 Murray Dr  Hanahan SC 29410
GEO:32.9203822;-80.014584
END:VEVENT
END:VCALENDAR