BEGIN:VCALENDAR
VERSION:2.0
PRODID:-//Tukios.com/
BEGIN:VEVENT
UID:dad3c556-01d8-44a3-a9e9-20621c08d6a3@obits.jhenrystuhr.com
DTSTAMP:20260420T153134Z
DTSTART:20260422T190000Z
DTEND:20260422T200000Z
SUMMARY:Funeral Service
DESCRIPTION:
URL:https://obits.jhenrystuhr.com/mark-ruppel
LOCATION:St. Andrew's Historic Church 438 Whilden Street  Mount Pleasant 
	SC 29464
GEO:32.7884811;-79.8759247
END:VEVENT
END:VCALENDAR