BEGIN:VCALENDAR
VERSION:2.0
PRODID:-//Tukios.com/
BEGIN:VEVENT
UID:b3c296e4-c460-4ebd-ae95-04cee79f44bc@obits.jhenrystuhr.com
DTSTAMP:20260421T173241Z
DTSTART:20260425T190000Z
DTEND:20260425T200000Z
SUMMARY:Burial
DESCRIPTION:
URL:https://obits.jhenrystuhr.com/marianne-confalone
LOCATION:Summerville Cemetery 1330 Boone Hill Rd  Summerville SC 29483
GEO:32.9998482;-80.2154801
END:VEVENT
END:VCALENDAR