BEGIN:VCALENDAR
VERSION:2.0
PRODID:-//Tukios.com/
BEGIN:VEVENT
UID:10cc4b3a-4d26-4312-bff9-2b39371e5951@obits.jhenrystuhr.com
DTSTAMP:20260421T173509Z
DTSTART:20260425T170000Z
DTEND:20260425T180000Z
SUMMARY:Visitation
DESCRIPTION:
URL:https://obits.jhenrystuhr.com/marianne-confalone
LOCATION:Oaktown Church 3790 Ashley Phosphate Rd  North Charleston SC 
	29418
GEO:32.9246454;-80.0921308
END:VEVENT
END:VCALENDAR