BEGIN:VCALENDAR
VERSION:2.0
PRODID:-//Tukios.com/
BEGIN:VEVENT
UID:59ffa88a-4a96-4c18-8d19-fbf474d0fb36@obits.jhenrystuhr.com
DTSTAMP:20260421T173531Z
DTSTART:20260425T180000Z
DTEND:20260425T190000Z
SUMMARY:Funeral Service
DESCRIPTION:
URL:https://obits.jhenrystuhr.com/marianne-confalone
LOCATION:Oaktown Church 3790 Ashley Phosphate Road  North Charleston SC 
	29420
GEO:32.9246454;-80.0921308
END:VEVENT
END:VCALENDAR