BEGIN:VCALENDAR
VERSION:2.0
PRODID:-//Tukios.com/
BEGIN:VEVENT
UID:b046fb9c-3a75-4a27-92ca-0ddd8007e801@obits.jhenrystuhr.com
DTSTAMP:20260421T220742Z
DTSTART:20260423T183000Z
DTEND:20260423T193000Z
SUMMARY:Burial
DESCRIPTION:
URL:https://obits.jhenrystuhr.com/lucy-spell
LOCATION: 3093 Ashley River Rd  Charleston SC 29414
GEO:32.8511043;-80.0671221
END:VEVENT
END:VCALENDAR