BEGIN:VCALENDAR
VERSION:2.0
PRODID:-//Tukios.com/
BEGIN:VEVENT
UID:e7cf81fb-4672-4cc2-8a36-9eca2fe3e46a@obits.jhenrystuhr.com
DTSTAMP:20260421T220509Z
DTSTART:20260423T170000Z
DTEND:20260423T180000Z
SUMMARY:Funeral Service
DESCRIPTION:
URL:https://obits.jhenrystuhr.com/lucy-spell
LOCATION:Greek Orthodox Church of The Holy Trinity 30 Race St  Charleston 
	SC 29403
GEO:32.7980186;-79.9483291
END:VEVENT
END:VCALENDAR