BEGIN:VCALENDAR
VERSION:2.0
PRODID:-//Tukios.com/
BEGIN:VEVENT
UID:a8fee85c-1a34-46d5-8c6d-67019a148fdc@obits.jhenrystuhr.com
DTSTAMP:20260421T220650Z
DTSTART:20260423T163000Z
DTEND:20260423T170000Z
SUMMARY:Visitation
DESCRIPTION:
URL:https://obits.jhenrystuhr.com/lucy-spell
LOCATION: 30 Race St  Charleston SC 29403
GEO:32.7980186;-79.9483291
END:VEVENT
END:VCALENDAR