BEGIN:VCALENDAR
VERSION:2.0
PRODID:-//Tukios.com/
BEGIN:VEVENT
UID:c9c8d8c7-9541-4e36-ba1e-c5d54d748935@obits.jhenrystuhr.com
DTSTAMP:20260423T220256Z
DTSTART:20260428T140000Z
DTEND:20260428T150000Z
SUMMARY:Visitation
DESCRIPTION:
URL:https://obits.jhenrystuhr.com/joseph-sliker
LOCATION: 1494 Mathis Ferry Road  Mt. Pleasant SC 29464
GEO:32.8237364;-79.8512316
END:VEVENT
END:VCALENDAR