BEGIN:VCALENDAR
VERSION:2.0
PRODID:-//Tukios.com/
BEGIN:VEVENT
UID:62b18fd6-fd87-4da8-bd66-0f57142065cd@obits.jhenrystuhr.com
DTSTAMP:20260423T213921Z
DTSTART:20260427T163000Z
DTEND:20260427T173000Z
SUMMARY:Funeral Service
DESCRIPTION:
URL:https://obits.jhenrystuhr.com/john-dupree-jr
LOCATION:Greek Orthodox Church of The Holy Trinity 30 Race St  Charleston 
	SC 29403
GEO:32.7980186;-79.9483291
END:VEVENT
END:VCALENDAR