BEGIN:VCALENDAR
VERSION:2.0
PRODID:-//Tukios.com/
BEGIN:VEVENT
UID:43e543f3-8ec6-4e2b-bd56-c980632d2c88@obits.jhenrystuhr.com
DTSTAMP:20260423T180000Z
DTSTART:20260511T180000Z
DTEND:20260511T190000Z
SUMMARY:Funeral Service
DESCRIPTION:
URL:https://obits.jhenrystuhr.com/joanne-broderick
LOCATION:St. Benedict Catholic Church 950 Darrell Creek Trail  Mount 
	Pleasant SC 29466
GEO:32.8910656;-79.7565273
END:VEVENT
END:VCALENDAR