BEGIN:VCALENDAR
VERSION:2.0
PRODID:-//Tukios.com/
BEGIN:VEVENT
UID:a51507ce-a760-4303-afa1-f3e007ed14a0@obits.jhenrystuhr.com
DTSTAMP:20260424T044233Z
DTSTART:20260530T150000Z
DTEND:20260530T160000Z
SUMMARY:Memorial Service
DESCRIPTION:
URL:https://obits.jhenrystuhr.com/jean-meyers
LOCATION:Lutheran Church of the Ascension 4000 Roswell Road Northeast  
	Atlanta GA 30342
GEO:33.8637891;-84.3811372
END:VEVENT
END:VCALENDAR