BEGIN:VCALENDAR
VERSION:2.0
PRODID:-//Tukios.com/
BEGIN:VEVENT
UID:0c554a53-749a-4362-9367-64dee4466a7b@obits.jhenrystuhr.com
DTSTAMP:20260422T190845Z
DTSTART:20260423T210000Z
DTEND:20260423T230000Z
SUMMARY:Visitation
DESCRIPTION:
URL:https://obits.jhenrystuhr.com/jean-fulghum
LOCATION:Mount Pleasant Chapel 1494 Mathis Ferry Road  Mount Pleasant SC 
	29464
GEO:32.8237364;-79.8512316
END:VEVENT
END:VCALENDAR