BEGIN:VCALENDAR
VERSION:2.0
PRODID:-//Tukios.com/
BEGIN:VEVENT
UID:78686abb-4dac-4f52-9a6b-89f80334b142@obits.jhenrystuhr.com
DTSTAMP:20260421T085150Z
DTSTART:20260417T170000Z
DTEND:20260417T180000Z
SUMMARY:Funeral Service
DESCRIPTION:
URL:https://obits.jhenrystuhr.com/jason-stokes
LOCATION:J. Henry Stuhr, Inc., West Ashley Chapel 3360 Glenn McConnell 
	Pkwy  Charleston SC 29414
GEO:32.8175132;-80.0624851
END:VEVENT
END:VCALENDAR