BEGIN:VCALENDAR
VERSION:2.0
PRODID:-//Tukios.com/
BEGIN:VEVENT
UID:bff13ee0-b788-4d29-9200-fab41fbbcd51@obits.jhenrystuhr.com
DTSTAMP:20260422T203037Z
DTSTART:20260425T151500Z
DTEND:20260425T161500Z
SUMMARY:Burial
DESCRIPTION:
URL:https://obits.jhenrystuhr.com/codie-hill
LOCATION: 3345 S Live Oak Dr  Moncks Corner SC 29461
GEO:33.0790081;-80.0859681
END:VEVENT
END:VCALENDAR