BEGIN:VCALENDAR
VERSION:2.0
PRODID:-//Tukios.com/
BEGIN:VEVENT
UID:ff887fe4-b2f6-45f4-9e47-9b7b5894ff0e@obits.jhenrystuhr.com
DTSTAMP:20260422T202942Z
DTSTART:20260425T140000Z
DTEND:20260425T150000Z
SUMMARY:Funeral Service
DESCRIPTION:
URL:https://obits.jhenrystuhr.com/codie-hill
LOCATION:J. Henry Stuhr Inc., Northwoods Chapel 2180 Greenridge Rd  North 
	Charleston SC 29406
GEO:32.9544622;-80.0466814
END:VEVENT
END:VCALENDAR