BEGIN:VCALENDAR
VERSION:2.0
PRODID:-//Tukios.com/
BEGIN:VEVENT
UID:3fc3645c-cc88-4fb1-a67d-5b65778ef6de@obits.jhenrystuhr.com
DTSTAMP:20260422T203151Z
DTSTART:20260424T220000Z
DTEND:20260425T000000Z
SUMMARY:Visitation
DESCRIPTION:
URL:https://obits.jhenrystuhr.com/codie-hill
LOCATION:J. Henry Stuhr Inc., Northwoods Chapel 2180 Greenridge Rd  North 
	Charleston SC 29406
GEO:32.9544622;-80.0466814
END:VEVENT
END:VCALENDAR